BEGIN:VCALENDAR
PRODID:-//AT Content Types//AT Event//EN
VERSION:2.0
METHOD:PUBLISH
BEGIN:VEVENT
DTSTAMP:20260423T082655Z
CREATED:20241127T110207Z
UID:ATEvent-8efb54e2803d433fa7f1d2d6b65d4d64
LAST-MODIFIED:20241211T145214Z
SUMMARY:24h de l'adoration pour les vocations pour l'AVENT
DTSTART:20241206T160000Z
DTEND:20241207T160000Z
DESCRIPTION:Portez avec nous dans la prière ces jeunes et tous ceux e
 t celles rencontrés dans nos missions ainsi que ceux que le Seigneur 
 appelle à le suivre d’une manière toute particulière. Au programm
 e : deux temps de « 24h d’Adoration pour les Vocations ».
CONTACT:pjv.bfmn@gmail.com
CLASS:PUBLIC
END:VEVENT
END:VCALENDAR
